BEGIN:VCALENDAR
VERSION:2.0
PRODID:-//PLDI-Positive Leadership Development Institute - ECPv6.15.20//NONSGML v1.0//EN
CALSCALE:GREGORIAN
METHOD:PUBLISH
X-WR-CALNAME:PLDI-Positive Leadership Development Institute
X-ORIGINAL-URL:https://pldi.ca
X-WR-CALDESC:Events for PLDI-Positive Leadership Development Institute
REFRESH-INTERVAL;VALUE=DURATION:PT1H
X-Robots-Tag:noindex
X-PUBLISHED-TTL:PT1H
BEGIN:VTIMEZONE
TZID:America/Toronto
BEGIN:DAYLIGHT
TZOFFSETFROM:-0500
TZOFFSETTO:-0400
TZNAME:EDT
DTSTART:20220313T070000
END:DAYLIGHT
BEGIN:STANDARD
TZOFFSETFROM:-0400
TZOFFSETTO:-0500
TZNAME:EST
DTSTART:20221106T060000
END:STANDARD
BEGIN:DAYLIGHT
TZOFFSETFROM:-0500
TZOFFSETTO:-0400
TZNAME:EDT
DTSTART:20230312T070000
END:DAYLIGHT
BEGIN:STANDARD
TZOFFSETFROM:-0400
TZOFFSETTO:-0500
TZNAME:EST
DTSTART:20231105T060000
END:STANDARD
BEGIN:DAYLIGHT
TZOFFSETFROM:-0500
TZOFFSETTO:-0400
TZNAME:EDT
DTSTART:20240310T070000
END:DAYLIGHT
BEGIN:STANDARD
TZOFFSETFROM:-0400
TZOFFSETTO:-0500
TZNAME:EST
DTSTART:20241103T060000
END:STANDARD
END:VTIMEZONE
BEGIN:VEVENT
DTSTART;VALUE=DATE:20230201
DTEND;VALUE=DATE:20230216
DTSTAMP:20260423T220923
CREATED:20221228T185443Z
LAST-MODIFIED:20230126T180311Z
UID:17175-1675209600-1676505599@pldi.ca
SUMMARY:ONLINE FEBRUARY 2023 CORE TRAININGS
DESCRIPTION:FEBRUARY 2023 ONLINE CORE TRAININGS \nFebruary 1st – 15th 2023 \n12-16 hours of blended online learning delivered over 3 weeks through: \n(3) facilitated real-time 3-hour group sessions\, once a week on Wednesdays and \n(2) self-paced asynchronous online sessions to complete in one week’s time \n  \nThere are 2 possible English cohorts to join : \nBC led cohort: Wednesday Zoom facilitated group sessions  \n@ 12 pm- 3pm Eastern Time | 9 am-12 pm Pacific Time \nON led cohort:  Wednesday Zoom facilitated group sessions  \n@ 5 pm-8 pm Eastern Time | 2 pm -5 pm Pacific Time \n  \nApplications for these cohorts can be received until January 30 th. \nApplication (EN)  \nInformation (EN) 
URL:https://pldi.ca/event/feb2023-online-core-trainings/
CATEGORIES:BC,EN,ON,Training I
ORGANIZER;CN="PLDI  British-Columbia":MAILTO:marc@paninbc.ca
END:VEVENT
END:VCALENDAR