BEGIN:VCALENDAR
VERSION:2.0
PRODID:-//PLDI-Positive Leadership Development Institute - ECPv6.15.20//NONSGML v1.0//EN
CALSCALE:GREGORIAN
METHOD:PUBLISH
X-WR-CALNAME:PLDI-Positive Leadership Development Institute
X-ORIGINAL-URL:https://pldi.ca
X-WR-CALDESC:Events for PLDI-Positive Leadership Development Institute
REFRESH-INTERVAL;VALUE=DURATION:PT1H
X-Robots-Tag:noindex
X-PUBLISHED-TTL:PT1H
BEGIN:VTIMEZONE
TZID:America/Toronto
BEGIN:DAYLIGHT
TZOFFSETFROM:-0500
TZOFFSETTO:-0400
TZNAME:EDT
DTSTART:20220313T070000
END:DAYLIGHT
BEGIN:STANDARD
TZOFFSETFROM:-0400
TZOFFSETTO:-0500
TZNAME:EST
DTSTART:20221106T060000
END:STANDARD
BEGIN:DAYLIGHT
TZOFFSETFROM:-0500
TZOFFSETTO:-0400
TZNAME:EDT
DTSTART:20230312T070000
END:DAYLIGHT
BEGIN:STANDARD
TZOFFSETFROM:-0400
TZOFFSETTO:-0500
TZNAME:EST
DTSTART:20231105T060000
END:STANDARD
BEGIN:DAYLIGHT
TZOFFSETFROM:-0500
TZOFFSETTO:-0400
TZNAME:EDT
DTSTART:20240310T070000
END:DAYLIGHT
BEGIN:STANDARD
TZOFFSETFROM:-0400
TZOFFSETTO:-0500
TZNAME:EST
DTSTART:20241103T060000
END:STANDARD
END:VTIMEZONE
BEGIN:VEVENT
DTSTART;VALUE=DATE:20230306
DTEND;VALUE=DATE:20230307
DTSTAMP:20260423T204916
CREATED:20230213T192454Z
LAST-MODIFIED:20230213T194556Z
UID:17202-1678060800-1678147199@pldi.ca
SUMMARY:DEADLINE : MARCH 2023 ONLINE GOVERNANCE NATIONAL APPLICATIONS
DESCRIPTION:NATIONAL ONLINE GOVERNANCE TRAININGS – MARCH 2023 \nMarch 16th  – 30th 2023  \nAn Online Governance training represents a total of 12-14 hours over a 3-week period composed of : \n\n3 Zoom facilitated group sessions of 2.5 hours each\, once per week\n2 self-paced individual sessions in between the Zoom facilitated group sessions\n\n  \nThere are 2 possible cohorts to join in English: \nBC & Western Canada English cohort:  Thursday Zoom facilitated group sessions @ 1 pm- 3:30 pm EST | 10 am-12:30 pm PST \n ON & Eastern Canada English cohort: Thursday Zoom facilitated group sessions @5 pm-7:30 pm EST | 2 pm -4:30 pm PST \n  \nApplications for these cohorts can be received until March 6th  12 am EST |9 pm PST  (midnight Eastern Standard Time)  \nApplication (EN)  | Application (FR)  \nInformation (EN) | Information (FR)
URL:https://pldi.ca/event/deadline-march-2023-online-governance-national-applications/
CATEGORIES:BC,EN,ON
ORGANIZER;CN="PLDI Ontario":MAILTO:TJewal@ontarioaidsnetwork.ca
END:VEVENT
BEGIN:VEVENT
DTSTART;VALUE=DATE:20230316
DTEND;VALUE=DATE:20230331
DTSTAMP:20260423T204916
CREATED:20230213T191740Z
LAST-MODIFIED:20230213T194651Z
UID:17200-1678924800-1680220799@pldi.ca
SUMMARY:ONLINE MARCH 2023 GOVERNANCE TRAININGS
DESCRIPTION:MARCH 2023 ONLINE GOVERNANCE TRAININGS \nMarch 16th – 30th 2023 \n12-14 hours of blended online learning delivered over 3 weeks through: \n(3) facilitated real-time 2.5-hour group sessions\, once a week on Thursdays and \n(2) self-paced asynchronous online sessions to complete in one week’s time \n  \nThere are 2 possible English cohorts to join : \nBC led cohort: Thursday Zoom facilitated group sessions  \n@ 1 pm- 3:30pm Eastern Time | 10 am-12:30 pm Pacific Time \nON led cohort:  Wednesday Zoom facilitated group sessions  \n@ 5 pm-7:30 pm Eastern Time | 2 pm -4:30 pm Pacific Time \n  \nApplications for these cohorts can be received until March 6th. \nApplication (EN)  \nInformation (EN) 
URL:https://pldi.ca/event/online-march-2023-governace-trainings/
CATEGORIES:BC,EN,ON
ORGANIZER;CN="PLDI Ontario":MAILTO:TJewal@ontarioaidsnetwork.ca
END:VEVENT
END:VCALENDAR