BEGIN:VCALENDAR
VERSION:2.0
PRODID:-//PLDI-Positive Leadership Development Institute - ECPv6.15.20//NONSGML v1.0//EN
CALSCALE:GREGORIAN
METHOD:PUBLISH
X-ORIGINAL-URL:https://pldi.ca
X-WR-CALDESC:Events for PLDI-Positive Leadership Development Institute
REFRESH-INTERVAL;VALUE=DURATION:PT1H
X-Robots-Tag:noindex
X-PUBLISHED-TTL:PT1H
BEGIN:VTIMEZONE
TZID:America/Toronto
BEGIN:DAYLIGHT
TZOFFSETFROM:-0500
TZOFFSETTO:-0400
TZNAME:EDT
DTSTART:20220313T070000
END:DAYLIGHT
BEGIN:STANDARD
TZOFFSETFROM:-0400
TZOFFSETTO:-0500
TZNAME:EST
DTSTART:20221106T060000
END:STANDARD
BEGIN:DAYLIGHT
TZOFFSETFROM:-0500
TZOFFSETTO:-0400
TZNAME:EDT
DTSTART:20230312T070000
END:DAYLIGHT
BEGIN:STANDARD
TZOFFSETFROM:-0400
TZOFFSETTO:-0500
TZNAME:EST
DTSTART:20231105T060000
END:STANDARD
BEGIN:DAYLIGHT
TZOFFSETFROM:-0500
TZOFFSETTO:-0400
TZNAME:EDT
DTSTART:20240310T070000
END:DAYLIGHT
BEGIN:STANDARD
TZOFFSETFROM:-0400
TZOFFSETTO:-0500
TZNAME:EST
DTSTART:20241103T060000
END:STANDARD
END:VTIMEZONE
BEGIN:VEVENT
DTSTART;VALUE=DATE:20230921
DTEND;VALUE=DATE:20230925
DTSTAMP:20260423T140621
CREATED:20230911T133815Z
LAST-MODIFIED:20240103T175115Z
UID:17365-1695254400-1695599999@pldi.ca
SUMMARY:(SASK) IN-PERSON CORE TRAINING SEPT 2023
DESCRIPTION:(SASK) SEPTEMBER 2023 IN-PERSON CORE TRAINING  \nSeptember 21st – 24th 2023 \n3 and 1/2 days of training with peers \nRegistration open until  August 25th midnight PST \nApplication \nInformation \nThis unique opportunity in the Prairies is made possible through funding from Gilead Sciences.
URL:https://pldi.ca/event/sask-sept-2023-in-person-core-training/
CATEGORIES:Training I
END:VEVENT
END:VCALENDAR