BEGIN:VCALENDAR
VERSION:2.0
PRODID:-//PLDI-Positive Leadership Development Institute - ECPv6.15.20//NONSGML v1.0//EN
CALSCALE:GREGORIAN
METHOD:PUBLISH
X-ORIGINAL-URL:https://pldi.ca
X-WR-CALDESC:Events for PLDI-Positive Leadership Development Institute
REFRESH-INTERVAL;VALUE=DURATION:PT1H
X-Robots-Tag:noindex
X-PUBLISHED-TTL:PT1H
BEGIN:VTIMEZONE
TZID:America/Vancouver
BEGIN:DAYLIGHT
TZOFFSETFROM:-0800
TZOFFSETTO:-0700
TZNAME:PDT
DTSTART:20220313T100000
END:DAYLIGHT
BEGIN:STANDARD
TZOFFSETFROM:-0700
TZOFFSETTO:-0800
TZNAME:PST
DTSTART:20221106T090000
END:STANDARD
BEGIN:DAYLIGHT
TZOFFSETFROM:-0800
TZOFFSETTO:-0700
TZNAME:PDT
DTSTART:20230312T100000
END:DAYLIGHT
BEGIN:STANDARD
TZOFFSETFROM:-0700
TZOFFSETTO:-0800
TZNAME:PST
DTSTART:20231105T090000
END:STANDARD
BEGIN:DAYLIGHT
TZOFFSETFROM:-0800
TZOFFSETTO:-0700
TZNAME:PDT
DTSTART:20240310T100000
END:DAYLIGHT
BEGIN:STANDARD
TZOFFSETFROM:-0700
TZOFFSETTO:-0800
TZNAME:PST
DTSTART:20241103T090000
END:STANDARD
END:VTIMEZONE
BEGIN:VEVENT
DTSTART;VALUE=DATE:20231026
DTEND;VALUE=DATE:20231027
DTSTAMP:20260423T125531
CREATED:20230911T132648Z
LAST-MODIFIED:20240103T190019Z
UID:17358-1698278400-1698364799@pldi.ca
SUMMARY:(BC) IN-PERSON CORE TRAINING OCTOBER 2023
DESCRIPTION:(BC) OCTOBER 26-29 2023: 3 and 1/2 days of Core training with peers \nRegistration open until October 3rd midnight PST \nApplication (EN) \nInformation (EN)
URL:https://pldi.ca/event/bc-oct2023-in-person-core-training/
CATEGORIES:BC,EN,Training I
ORGANIZER;CN="PLDI  British-Columbia":MAILTO:marc@paninbc.ca
END:VEVENT
END:VCALENDAR