BEGIN:VCALENDAR
VERSION:2.0
PRODID:-//PLDI-Positive Leadership Development Institute - ECPv6.15.20//NONSGML v1.0//EN
CALSCALE:GREGORIAN
METHOD:PUBLISH
X-WR-CALNAME:PLDI-Positive Leadership Development Institute
X-ORIGINAL-URL:https://pldi.ca
X-WR-CALDESC:Events for PLDI-Positive Leadership Development Institute
REFRESH-INTERVAL;VALUE=DURATION:PT1H
X-Robots-Tag:noindex
X-PUBLISHED-TTL:PT1H
BEGIN:VTIMEZONE
TZID:America/Toronto
BEGIN:DAYLIGHT
TZOFFSETFROM:-0500
TZOFFSETTO:-0400
TZNAME:EDT
DTSTART:20230312T070000
END:DAYLIGHT
BEGIN:STANDARD
TZOFFSETFROM:-0400
TZOFFSETTO:-0500
TZNAME:EST
DTSTART:20231105T060000
END:STANDARD
BEGIN:DAYLIGHT
TZOFFSETFROM:-0500
TZOFFSETTO:-0400
TZNAME:EDT
DTSTART:20240310T070000
END:DAYLIGHT
BEGIN:STANDARD
TZOFFSETFROM:-0400
TZOFFSETTO:-0500
TZNAME:EST
DTSTART:20241103T060000
END:STANDARD
BEGIN:DAYLIGHT
TZOFFSETFROM:-0500
TZOFFSETTO:-0400
TZNAME:EDT
DTSTART:20250309T070000
END:DAYLIGHT
BEGIN:STANDARD
TZOFFSETFROM:-0400
TZOFFSETTO:-0500
TZNAME:EST
DTSTART:20251102T060000
END:STANDARD
END:VTIMEZONE
BEGIN:VEVENT
DTSTART;VALUE=DATE:20240208
DTEND;VALUE=DATE:20240209
DTSTAMP:20260423T082750
CREATED:20240103T171530Z
LAST-MODIFIED:20240104T042438Z
UID:17382-1707350400-1707436799@pldi.ca
SUMMARY:CORE TRAINING starting February 8\, 2024 (online)
DESCRIPTION:FEBRUARY 8 -22 2024: 12-16 hours of online learning delivered over 3 weeks: \n\n(3) facilitated real-time 3-hour group sessions\,\n\nonce a week on Thursdays from 9 am-12 pm Pacific Time (PST) | 12pm- 3pm Eastern Time (ET)\n\n\n(2) self-paced asynchronous online sessions to complete in one week’s time\n\nApplications for this BC-led cohort can be received until January 30th\, 2024 @ 4:00 PM (PST). \nApplication (EN)  \nInformation (EN) 
URL:https://pldi.ca/event/online-core-training-february-2024/
CATEGORIES:BC,EN,Training I
ORGANIZER;CN="PLDI  British-Columbia":MAILTO:marc@paninbc.ca
END:VEVENT
END:VCALENDAR