BEGIN:VCALENDAR
VERSION:2.0
PRODID:-//PLDI-Positive Leadership Development Institute - ECPv6.15.20//NONSGML v1.0//EN
CALSCALE:GREGORIAN
METHOD:PUBLISH
X-WR-CALNAME:PLDI-Positive Leadership Development Institute
X-ORIGINAL-URL:https://pldi.ca
X-WR-CALDESC:Events for PLDI-Positive Leadership Development Institute
REFRESH-INTERVAL;VALUE=DURATION:PT1H
X-Robots-Tag:noindex
X-PUBLISHED-TTL:PT1H
BEGIN:VTIMEZONE
TZID:America/Vancouver
BEGIN:DAYLIGHT
TZOFFSETFROM:-0800
TZOFFSETTO:-0700
TZNAME:PDT
DTSTART:20230312T100000
END:DAYLIGHT
BEGIN:STANDARD
TZOFFSETFROM:-0700
TZOFFSETTO:-0800
TZNAME:PST
DTSTART:20231105T090000
END:STANDARD
BEGIN:DAYLIGHT
TZOFFSETFROM:-0800
TZOFFSETTO:-0700
TZNAME:PDT
DTSTART:20240310T100000
END:DAYLIGHT
BEGIN:STANDARD
TZOFFSETFROM:-0700
TZOFFSETTO:-0800
TZNAME:PST
DTSTART:20241103T090000
END:STANDARD
BEGIN:DAYLIGHT
TZOFFSETFROM:-0800
TZOFFSETTO:-0700
TZNAME:PDT
DTSTART:20250309T100000
END:DAYLIGHT
BEGIN:STANDARD
TZOFFSETFROM:-0700
TZOFFSETTO:-0800
TZNAME:PST
DTSTART:20251102T090000
END:STANDARD
END:VTIMEZONE
BEGIN:VEVENT
DTSTART;TZID=America/Vancouver:20240613T090000
DTEND;TZID=America/Vancouver:20240627T120000
DTSTAMP:20260422T232249
CREATED:20240402T185205Z
LAST-MODIFIED:20240402T185540Z
UID:17583-1718269200-1719489600@pldi.ca
SUMMARY:GOVERNANCE TRAINING starting June 13\, 2024 (online)
DESCRIPTION:JUNE 13- 27\, 2024: 12-16 hours of online learning delivered over 3 weeks: \n\n(3) facilitated real-time 3-hour group sessions\,\n\nonce a week on Thursdays from 9:00 am- 12:00 pm Pacific Time | 12 pm-3 pm Eastern Time\n\n\n(2) self-paced asynchronous online sessions to complete in one week’s time\n\nApplications for this BC-led cohort can be received until May 31st\, 12 pm PST | 3 pm EST. \nFor PLDI Core Graduates Only. \nApplication (EN)  \nInformation (EN) 
URL:https://pldi.ca/event/governance-training-starting-june-13-2024-online/
CATEGORIES:Advanced training,BC,EN
ORGANIZER;CN="PLDI  British-Columbia":MAILTO:marc@paninbc.ca
END:VEVENT
END:VCALENDAR